BEGIN:VCALENDAR
VERSION:2.0
CALSCALE:GREGORIAN
PRODID:adamgibbons/ics
METHOD:PUBLISH
X-PUBLISHED-TTL:PT1H
BEGIN:VEVENT
UID:Ck7ESLhC8iCU8xkfttCny
SUMMARY:الندوة السنوية الثانية عشرة لمختبر ADLQ
DTSTAMP:20260426T034552Z
DTSTART:19700101T000000Z
DTEND:19700101T000000Z
DESCRIPTION:يسعدنا الإعلان عن فتح باب تقديم الملخصات للندوة السنوية الثانية
	 عشرة التي يستضيفها مختبر قطر لمكافحة المنشطات (ADLQ)، تحت شعار "اكتشاف ال
	مؤشرات الحيوية".\n
END:VEVENT
END:VCALENDAR
